BEGIN:VCALENDAR
VERSION:2.0
BEGIN:VEVENT
URL:http://www.choycegroup.com/community/events/viewevent/1-bergabung-menjadi-member-daftar-togel-terbaik 
DTSTART:20211030T120000
DTEND:20211030T211500
SUMMARY:Bergabung Menjadi Member Daftar Togel Terbaik
DESCRIPTION:Temukan dengan baik agar tidak salah dalam melakukan isi form yang harus tepat, kemudian buatlah transaksi dengan memberikan masukan uang sebagai deposit awal untuk bisa membuat pasang taruhan. Ketahui pula mengenai bonus seperti refferal dan adanya hadiah member baru. Jangan sampai anda lewatkan kebaikan dari kesempatan yang ada.<a href="http://www.historicreflections.com/"></a>
LOCATION:asia
END:VEVENT
END:VCALENDAR